BEGIN:VCALENDAR
VERSION:2.0
PRODID:-//Ticket Pug - ECPv6.14.2//NONSGML v1.0//EN
CALSCALE:GREGORIAN
METHOD:PUBLISH
X-WR-CALNAME:Ticket Pug
X-ORIGINAL-URL:https://ticketpug.com
X-WR-CALDESC:Events for Ticket Pug
REFRESH-INTERVAL;VALUE=DURATION:PT1H
X-Robots-Tag:noindex
X-PUBLISHED-TTL:PT1H
BEGIN:VTIMEZONE
TZID:America/Los_Angeles
BEGIN:DAYLIGHT
TZOFFSETFROM:-0800
TZOFFSETTO:-0700
TZNAME:PDT
DTSTART:20240310T100000
END:DAYLIGHT
BEGIN:STANDARD
TZOFFSETFROM:-0700
TZOFFSETTO:-0800
TZNAME:PST
DTSTART:20241103T090000
END:STANDARD
END:VTIMEZONE
BEGIN:VEVENT
DTSTART;TZID=America/Los_Angeles:20241024T190000
DTEND;TZID=America/Los_Angeles:20241024T230000
DTSTAMP:20260421T043202
CREATED:20240925T191132Z
LAST-MODIFIED:20241001T201320Z
UID:933-1729796400-1729810800@ticketpug.com
SUMMARY:DUNGEONPALOOZA'S Spells & Specters Halloween D&D Themed Costume Ball
DESCRIPTION:EVENT OVERVIEW: \nWe’re taking over Exchange LA nightclub in DTLA and throwing the biggest D&D themed Halloween party of the year! \nThere will be drinks\, dancing\, a cosplay pageant\, Dungeon Combat Live! (rounds live tabletop combat)\, a photo booth with props\, more dancing\, vendor booths and tons of other super fun stuff and awesome people like yourself in attendance. \nThe perfect event for first-time players or people curious about getting into D&D and seasoned tabletop veterans and DMs alike. \nAll guests will receive a free D&D themed miniature figure with paid admission. \nAll guests will receive an entry into our D&D loot drop for a chance to receive fun items such as source books\, dice sets\, battle maps\, hobby paints\, minifigures\, dice towers\, and more. \nActivities Planned For This Event: \n\nDungeon Combat Live! (multiple tables of simulatenous D&D combat live on stage)\nFantasy Themed photo booth\nCosplay Pageant Hosted By Members Of The TTRPG Cosplay Community\nD&D randomized loot drop including miniatures\, dice\, \, source books\, & more\nFantasy Themed Vendor Tables\nAnd More!\n\nBy attending you will also receive a free invitation to our private Socal D&D Discord server filled with hundreds of local D&D and TTRPG players. \nThis event is open to anyone 21 years and over whether you currently play D&D or not. \nOver the course of the evening new friendships will be forged\, new gaming groups will be born and everyone will have an awesome time discussing all things D&D. \nOur events are a great place to meet fellow players and find new D&D gaming groups to join. \nThis meetup event is for all levels of players and D&D fans. \nNo D&D experience necessary. If you’re interested in D&D and want to know more about how to play then this is the event for you! \nReserve your tickets now and come meet fellow adventures in your area! \nThis event is strictly 21 years and over. \nTwo drink minimum per guest (non-alcoholic drinks OK). \nNo animals or pets please. \nNo refunds. All ticket sales final. No exceptions.
URL:https://ticketpug.com/event/dungeonpalooza-halloween/
LOCATION:Exchange LA\, 618 S Spring St\, Los Angeles\, 90014\, United States
CATEGORIES:Dungeons & Dragons,Los Angeles
ATTACH;FMTTYPE=image/jpeg:https://ticketpug.com/wp-content/uploads/2024/09/Dungeonpalooza-Halloween-EVENTBRITE-BANNER-2160x1080-.jpg
END:VEVENT
END:VCALENDAR